BEGIN:VCALENDAR
VERSION:2.0
PRODID:icalendar-ruby
CALSCALE:GREGORIAN
METHOD:PUBLISH
BEGIN:VEVENT
DTSTAMP:20260422T095155Z
UID:5-393566@marionfirst.com
DTSTART:20260809T143000Z
DTEND:20260809T153000Z
CLASS:PUBLIC
CREATED:20260421T210324
DESCRIPTION:Sunday Worship
LAST-MODIFIED:20260421T210324
LOCATION:
SUMMARY:Sunday Worship
URL;VALUE=URI:https://www.marionfirst.com/events/sunday-worship/2026-08-09
END:VEVENT
END:VCALENDAR
