BEGIN:VCALENDAR
VERSION:2.0
PRODID:icalendar-ruby
CALSCALE:GREGORIAN
METHOD:PUBLISH
BEGIN:VEVENT
DTSTAMP:20260422T030447Z
UID:5-393561@marionfirst.com
DTSTART:20260705T143000Z
DTEND:20260705T153000Z
CLASS:PUBLIC
CREATED:20260421T210324
DESCRIPTION:Sunday Worship
LAST-MODIFIED:20260421T210324
LOCATION:
SUMMARY:Sunday Worship
URL;VALUE=URI:https://www.marionfirst.com/events/sunday-worship/2026-07-05
END:VEVENT
END:VCALENDAR
