BEGIN:VCALENDAR
VERSION:2.0
PRODID:icalendar-ruby
CALSCALE:GREGORIAN
METHOD:PUBLISH
BEGIN:VEVENT
DTSTAMP:20260421T172013Z
UID:5-392771@marionfirst.com
DTSTART:20260517T143000Z
DTEND:20260517T153000Z
CLASS:PUBLIC
CREATED:20260421T131019
DESCRIPTION:Sunday Worship
LAST-MODIFIED:20260421T131019
LOCATION:
SUMMARY:Sunday Worship
URL;VALUE=URI:https://www.marionfirst.com/events/sunday-worship/2026-05-17
END:VEVENT
END:VCALENDAR
