BEGIN:VCALENDAR
VERSION:2.0
PRODID:icalendar-ruby
CALSCALE:GREGORIAN
METHOD:PUBLISH
BEGIN:VEVENT
DTSTAMP:20260421T160610Z
UID:5-392509@marionfirst.com
DTSTART:20260510T143000Z
DTEND:20260510T153000Z
CLASS:PUBLIC
CREATED:20260421T103051
DESCRIPTION:Sunday Worship
LAST-MODIFIED:20260421T103051
LOCATION:
SUMMARY:Sunday Worship
URL;VALUE=URI:https://www.marionfirst.com/events/sunday-worship/2026-05-10
END:VEVENT
END:VCALENDAR
